BEGIN:VCALENDAR
VERSION:2.0
PRODID:-//Glessen-Ortsinfo - ECPv4.6.16//NONSGML v1.0//EN
CALSCALE:GREGORIAN
METHOD:PUBLISH
X-WR-CALNAME:Glessen-Ortsinfo
X-ORIGINAL-URL:https://www.glessen-ortsinfo.de
X-WR-CALDESC:Veranstaltungen für Glessen-Ortsinfo
BEGIN:VEVENT
DTSTART;TZID=Europe/Berlin:20190711T150000
DTEND;TZID=Europe/Berlin:20190711T170000
DTSTAMP:20260425T103459
CREATED:20181208T171247Z
LAST-MODIFIED:20190703T135406Z
UID:1954-1562857200-1562864400@www.glessen-ortsinfo.de
SUMMARY:Seniorennachmittag mit Kaffee und Kuchen
DESCRIPTION:heute: \nKriminalkommissar Herr Schmickler vom Kommissariat Vorbeugung informiert über Haustür-Geschäfte\, Betrügereien und Internet-Fallen zum Nachteil besonders von älteren Menschen. \nVeranstalter: Ev. Frauenhilfe Glessen \nAlle interessierten Damen und Herren sind herzlich willkommen. \nAnsprechpartnerin: Gisela Böttcher\, 02238/42926 \n
URL:https://www.glessen-ortsinfo.de/event/seniorennachmittag-mit-kaffee-und-kuchen-36/
LOCATION:Hohe Straße 49\, Bergheim-Glessen\, 50129\, Deutschland
CATEGORIES:Für Senioren
END:VEVENT
END:VCALENDAR