BEGIN:VCALENDAR
VERSION:2.0
PRODID:-//Glessen-Ortsinfo - ECPv4.6.16//NONSGML v1.0//EN
CALSCALE:GREGORIAN
METHOD:PUBLISH
X-WR-CALNAME:Glessen-Ortsinfo
X-ORIGINAL-URL:https://www.glessen-ortsinfo.de
X-WR-CALDESC:Veranstaltungen für Glessen-Ortsinfo
BEGIN:VEVENT
DTSTART;TZID=Europe/Berlin:20231122T160000
DTEND;TZID=Europe/Berlin:20231122T200000
DTSTAMP:20260425T203034
CREATED:20231031T121210Z
LAST-MODIFIED:20231031T121210Z
UID:7099-1700668800-1700683200@www.glessen-ortsinfo.de
SUMMARY:Fußball im "Checkpo.int."
DESCRIPTION:16.30 bis 17.30 Uhr – Fußball für Kinder in der Halle – danach offener Treff \n
URL:https://www.glessen-ortsinfo.de/event/fussball-im-checkpo-int-5/
LOCATION:Am Wierichskamp 5 a\, Bergheim-Glessen\, 50129\, Deutschland
CATEGORIES:Für Kinder und Jugendliche
END:VEVENT
END:VCALENDAR