BEGIN:VCALENDAR
VERSION:2.0
PRODID:-//Glessen-Ortsinfo - ECPv4.6.16//NONSGML v1.0//EN
CALSCALE:GREGORIAN
METHOD:PUBLISH
X-WR-CALNAME:Glessen-Ortsinfo
X-ORIGINAL-URL:https://www.glessen-ortsinfo.de
X-WR-CALDESC:Veranstaltungen für Glessen-Ortsinfo
BEGIN:VEVENT
DTSTART;TZID=Europe/Berlin:20260308T180000
DTEND;TZID=Europe/Berlin:20260308T200000
DTSTAMP:20260420T090537
CREATED:20260225T115809Z
LAST-MODIFIED:20260225T115809Z
UID:8808-1772992800-1773000000@www.glessen-ortsinfo.de
SUMMARY:Elisa's Eltern-Stammtisch
DESCRIPTION:Für Sonntag\, 08.03.2026\, lädt Elisa Diel wieder zum Eltern-Stammtisch ein. \nTreffpunkt ist ab 18.00 Uhr in der Pizzeria Spacca Napoli\, Sommerhaus. \nUm Anmeldung unter info@elisas-babykurse.de wird gebeten. \n
URL:https://www.glessen-ortsinfo.de/event/elisas-eltern-stammtisch/
CATEGORIES:Veranstaltungen
ATTACH;FMTTYPE=image/jpeg:https://www.glessen-ortsinfo.de/wp-content/uploads/2026/02/elisa_stammtisch.jpg
END:VEVENT
END:VCALENDAR