BEGIN:VCALENDAR
VERSION:2.0
PRODID:-//Glessen-Ortsinfo - ECPv4.6.16//NONSGML v1.0//EN
CALSCALE:GREGORIAN
METHOD:PUBLISH
X-WR-CALNAME:Glessen-Ortsinfo
X-ORIGINAL-URL:https://www.glessen-ortsinfo.de
X-WR-CALDESC:Veranstaltungen für Glessen-Ortsinfo
BEGIN:VEVENT
DTSTART;TZID=Europe/Berlin:20190711T153000
DTEND;TZID=Europe/Berlin:20190711T163000
DTSTAMP:20260425T121429
CREATED:20190531T061631Z
LAST-MODIFIED:20190531T061631Z
UID:2713-1562859000-1562862600@www.glessen-ortsinfo.de
SUMMARY:1h-Bibel-Lektüre
DESCRIPTION:Kontakt: Pfarrer Thorsten Schmitt – 02238/945294 \n
URL:https://www.glessen-ortsinfo.de/event/1h-bibel-lektuere-20/
LOCATION:Hohe Straße 49\, Bergheim-Glessen\, 50129\, Deutschland
CATEGORIES:Religiöse Veranstaltung
ORGANIZER;CN="Ev.%20Christusgemeinde%20an%20der%20Glessener%20H%C3%B6he":MAILTO:evangelische-christusgemeinde@ekir.de
END:VEVENT
END:VCALENDAR